Workbook
Name 계약명1: [1]Main!$H$7
Name 대표: [1]Main!$C$8
Name 발주처1: [1]Main!$H$5
Name 상호: [1]Main!$C$6
Name 위치1: [1]Main!$H$20
Name 주소: [1]Main!$C$7

Sheet 표지
A1: 설 계 내 역 서
B5: 공 사 명: | C5: 이현웰가 보수공사
B6: 위 치: | C6: 진주시 이현동
B7: 도 급 액: | C7: ="일금"&NUMBERSTRING(E7,1)&"원정" -> 일금영원정 | E7: =원가계산서!E31 -> 0
A12: =TEXT(NOW(),"yyyy") & "년 " & TEXT(NOW()," mm") & "월 일" -> 2026년 10월 일
B18: 이현웰가 관리사무소 귀하

Sheet 원가계산서
B1: 공 사 원 가 계 산 서
B2: 공사명 : 이현웰가 외부 보수공사
B3: 비 목 | E3: 금 액 | F3: 구 성 비 | G3: 비 고
A4: A1 | B4: 순 공 사 원 가 | C4: 재 료 비 | D4: 직 접 재 료 비 | E4: =공종별집계표!F5 -> 0
A5: A2 | D5: 간 접 재 료 비 | E5: 0
A6: A3 | D6: 작업설, 부산물(△) | E6: 0
A7: AS | D7: [ 소 계 ] | E7: =TRUNC(E4+E5-E6, 0) -> 0
A8: B1 | C8: 노 무 비 | D8: 직 접 노 무 비 | E8: =공종별집계표!H5 -> 0
A9: B2 | D9: 간 접 노 무 비 | E9: =TRUNC(E8*0.113, 0) -> 0 | F9: 직접노무비 * 13%
A10: BS | D10: [ 소 계 ] | E10: =TRUNC(E8+E9, 0) -> 0
A11: C2 | C11: 경 비 | D11: 경 비 | E11: =공종별집계표!J5 -> 0
A12: C4 | D12: 산 재 보 험 료 | E12: =TRUNC(E10*0.0356, 0) -> 0 | F12: 노무비 * 3.56%
A13: C5 | D13: 고 용 보 험 료 | E13: =TRUNC(E10*0.0101, 0) -> 0 | F13: 노무비 * 1.01%
A14: C6 | D14: 국민 건강 보험료 | G14: 정산처리
A15: C7 | D15: 국민 연금 보험료 | G15: 정산처리
A16: CB | D16: 노인장기요양보험료 | G16: 장산처리
A17: CA | D17: 산업안전보건관리비 | E17: =TRUNC((E7+E8)*0.0311, 0) -> 0 | F17: (재료비+직노+관급자재비) * 3.11% | G17: 정산처리
A18: CD | D18: 석면분담금
A19: CC | D19: 임금채권 부담금
A20: CG | D20: 기 타 경 비 | E20: =TRUNC((E7+E10)*0.05, 0) -> 0 | F20: (재료비+노무비) * 5%
A21: CH | D21: 환 경 보 전 비 | E21: =TRUNC((E7+E8+E11)*0.003, 0) -> 0 | F21: (재료비+직노+경비) * 0.3% | G21: 정산처리
A22: CL | D22: 건설기계대여금지급보증서발급수수료 | E22: =TRUNC((E7+E8+E11)*0.0032, 0) -> 0 | F22: (재료비+직노+경비) * 0.32% | G22: 정산처리
A23: CS | D23: [ 소 계 ] | E23: =TRUNC(E11+E12+E13+E14+E15+E17+E16+E19+E18+E20+E21+E22, 0) -> 0
A24: S1 | B24: 계 | E24: =TRUNC(E7+E10+E23, 0) -> 0
A25: D1 | B25: 일 반 관 리 비 | E25: =TRUNC(E24*0.08, 0) -> 0 | F25: 계 * 8%
A26: D2 | B26: 이 윤 | E26: =TRUNC((E10+E23+E25)*0.1, 0) -> 0 | F26: (노무비+경비+일반관리비) * 10%
A27: D7 | B27: 고자재처리비
A28: D8 | B28: 폐기물처리비
A29: D9 | B29: 공 급 가 액 | E29: =TRUNC((E24+E25+E26+E27+E28)) -> 0
A30: DB | B30: 부 가 가 치 세 | E30: =TRUNC(E29*0.1, 0) -> 0 | F30: 공급가액 * 10%
A31: DH | B31: 도 급 액 | E31: =TRUNC(E29+E30, 0) -> 0
A32: S2 | B32: 총 공 사 비 | E32: =TRUNC(E31+0, 0) -> 0

Sheet 공종별집계표
A1: 공 종 별 집 계 표
A2: =원가계산서!B2 -> 공사명 : 이현웰가 외부 보수공사
A3: 품 명 | B3: 규 격 | C3: 단위 | D3: 수량 | E3: 재 료 비 | G3: 노 무 비 | I3: 경 비 | K3: 합 계 | M3: 비 고
E4: 단 가 | F4: 금 액 | G4: 단 가 | H4: 금 액 | I4: 단 가 | J4: 금 액 | K4: 단 가 | L4: 금 액
A5: 이현웰가 외부 보수공사 | D5: 1 | E5: =F6+F7+F8 -> 0 | F5: =E5*D5 -> 0 | G5: =H6+H7+H8 -> 0 | H5: =G5*D5 -> 0 | I5: =J6+J7+J8 -> 0 | J5: =I5*D5 -> 0 | K5: =E5+G5+I5 -> 0 | L5: =F5+H5+J5 -> 0
A6: ='공종별내역서 (2)'!A4 -> 게스트하우스 (7.5*4.5) | D6: 1 | E6: ='공종별내역서 (2)'!F14 -> 0 | F6: =E6*D6 -> 0 | G6: ='공종별내역서 (2)'!H14 -> 0 | H6: =G6*D6 -> 0 | I6: ='공종별내역서 (2)'!J14 -> 0 | J6: =I6*D6 -> 0 | K6: =E6+G6+I6 -> 0 | L6: =F6+H6+J6 -> 0
A7: ='공종별내역서 (2)'!A15 -> 농구장(13.8*13.8) | D7: 1 | E7: ='공종별내역서 (2)'!F28 -> 0 | F7: =E7*D7 -> 0 | G7: ='공종별내역서 (2)'!H28 -> 0 | H7: =G7*D7 -> 0 | I7: ='공종별내역서 (2)'!J28 -> 0 | J7: =I7*D7 -> 0 | K7: =E7+G7+I7 -> 0 | L7: =F7+H7+J7 -> 0
A8: ='공종별내역서 (2)'!A30 -> 외부 경사로(2*3.5) | D8: 1 | E8: ='공종별내역서 (2)'!F44 -> 0 | F8: =E8*D8 -> 0 | G8: ='공종별내역서 (2)'!H44 -> 0 | H8: =G8*D8 -> 0 | I8: ='공종별내역서 (2)'!J44 -> 0 | J8: =I8*D8 -> 0 | K8: =E8+G8+I8 -> 0 | L8: =F8+H8+J8 -> 0
A27: [ 합 계 ] | F27: =F5 -> 0 | H27: =H5 -> 0 | J27: =J5 -> 0 | L27: =L5 -> 0 | O27: 608729 | Q27: 34882782

Sheet 공종별내역서 (2)
A1: =공종별집계표!A2 -> 공사명 : 이현웰가 외부 보수공사
A2: 품 명 | B2: 규 격 | C2: 단위 | D2: 수량 | E2: 재 료 비 | G2: 노 무 비 | I2: 경 비 | K2: 합 계 | M2: 비 고
E3: 단 가 | F3: 금 액 | G3: 단 가 | H3: 금 액 | I3: 단 가 | J3: 금 액 | K3: 단 가 | L3: 금 액
A4: =산출서!A2 -> 게스트하우스 (7.5*4.5)
A5: =산출서!A4 -> 터파기 | B5: =산출서!B4 -> 보통토사 | C5: =산출서!C4 -> m3 | D5: 5.0625 | F5: =TRUNC(E5*D5, 0) -> 0 | H5: =TRUNC(G5*D5, 0) -> 0 | J5: =TRUNC(I5*D5, 0) -> 0 | K5: =TRUNC(E5+G5+I5, 0) -> 0 | L5: =TRUNC(F5+H5+J5, 0) -> 0
A6: =산출서!A5 -> 사토처리 | B6: =산출서!B5 -> 보통토사 | C6: =산출서!C5 -> m3 | D6: 5.315625 | F6: =TRUNC(E6*D6, 0) -> 0 | H6: =TRUNC(G6*D6, 0) -> 0 | J6: =TRUNC(I6*D6, 0) -> 0 | K6: =TRUNC(E6+G6+I6, 0) -> 0 | L6: =TRUNC(F6+H6+J6, 0) -> 0
A7: =산출서!A6 -> 비닐깔기 | B7: =산출서!B6 -> 0.03 2겹 | C7: =산출서!C6 -> m2 | D7: 36.19 | F7: =TRUNC(E7*D7, 0) -> 0 | H7: =TRUNC(G7*D7, 0) -> 0 | J7: =TRUNC(I7*D7, 0) -> 0 | K7: =TRUNC(E7+G7+I7, 0) -> 0 | L7: =TRUNC(F7+H7+J7, 0) -> 0
A8: =산출서!A7 -> 거푸집설치 | B8: =산출서!B7 -> 합판거푸집 | C8: =산출서!C7 -> m2 | D8: 2.7 | F8: =TRUNC(E8*D8, 0) -> 0 | H8: =TRUNC(G8*D8, 0) -> 0 | J8: =TRUNC(I8*D8, 0) -> 0 | K8: =TRUNC(E8+G8+I8, 0) -> 0 | L8: =TRUNC(F8+H8+J8, 0) -> 0
A9: =산출서!A8 -> 철근배근 | B9: =산출서!B8 -> HD13mm,@300 | C9: =산출서!C8 -> 톤 | D9: 0.26 | F9: =TRUNC(E9*D9, 0) -> 0 | H9: =TRUNC(G9*D9, 0) -> 0 | J9: =TRUNC(I9*D9, 0) -> 0 | K9: =TRUNC(E9+G9+I9, 0) -> 0 | L9: =TRUNC(F9+H9+J9, 0) -> 0
A10: =산출서!A9 -> 레미콘 | B10: =산출서!B9 -> 25-24-15 | C10: =산출서!C9 -> m3 | D10: 5.0625 | F10: =TRUNC(E10*D10, 0) -> 0 | H10: =TRUNC(G10*D10, 0) -> 0 | J10: =TRUNC(I10*D10, 0) -> 0 | K10: =TRUNC(E10+G10+I10, 0) -> 0 | L10: =TRUNC(F10+H10+J10, 0) -> 0
A11: =산출서!A10 -> 레미콘 타설 | B11: =산출서!B10 -> 펌프카 | C11: =산출서!C10 -> m3 | D11: 5.0625 | F11: =TRUNC(E11*D11, 0) -> 0 | H11: =TRUNC(G11*D11, 0) -> 0 | J11: =TRUNC(I11*D11, 0) -> 0 | K11: =TRUNC(E11+G11+I11, 0) -> 0 | L11: =TRUNC(F11+H11+J11, 0) -> 0
A12: =산출서!A11 -> 기계미장 | B12: =산출서!B11 -> 하드너 | C12: =산출서!C11 -> m2 | D12: 33.75 | F12: =TRUNC(E12*D12, 0) -> 0 | H12: =TRUNC(G12*D12, 0) -> 0 | J12: =TRUNC(I12*D12, 0) -> 0 | K12: =TRUNC(E12+G12+I12, 0) -> 0 | L12: =TRUNC(F12+H12+J12, 0) -> 0
A14: 소계 | F14: =SUM(F5:F13) -> 0 | H14: =SUM(H5:H13) -> 0 | J14: =SUM(J5:J13) -> 0 | L14: =SUM(L5:L13) -> 0
A15: =산출서!A14 -> 농구장(13.8*13.8)
A16: 거푸집설치 | B16: 합판거푸집 | C16: m2 | D16: 5.52 | F16: =TRUNC(E16*D16, 0) -> 0 | H16: =TRUNC(G16*D16, 0) -> 0 | J16: =TRUNC(I16*D16, 0) -> 0 | K16: =TRUNC(E16+G16+I16, 0) -> 0 | L16: =TRUNC(F16+H16+J16, 0) -> 0
A17: =산출서!A20 -> 철근배근 | B17: =산출서!B20 -> HD13mm@250 | C17: =산출서!C20 -> 톤 | D17: 1.7 | F17: =TRUNC(E17*D17, 0) -> 0 | H17: =TRUNC(G17*D17, 0) -> 0 | J17: =TRUNC(I17*D17, 0) -> 0 | K17: =TRUNC(E17+G17+I17, 0) -> 0 | L17: =TRUNC(F17+H17+J17, 0) -> 0
A18: =산출서!A21 -> 레미콘 | B18: =산출서!B21 -> 25-24-15 | C18: =산출서!C21 -> m3 | D18: 29.42298 | F18: =TRUNC(E18*D18, 0) -> 0 | H18: =TRUNC(G18*D18, 0) -> 0 | J18: =TRUNC(I18*D18, 0) -> 0 | K18: =TRUNC(E18+G18+I18, 0) -> 0 | L18: =TRUNC(F18+H18+J18, 0) -> 0
A19: =산출서!A22 -> 레미콘 타설 | B19: =산출서!B22 -> 펌프카 | C19: =산출서!C22 -> m3 | D19: 29.42298 | F19: =TRUNC(E19*D19, 0) -> 0 | H19: =TRUNC(G19*D19, 0) -> 0 | J19: =TRUNC(I19*D19, 0) -> 0 | K19: =TRUNC(E19+G19+I19, 0) -> 0 | L19: =TRUNC(F19+H19+J19, 0) -> 0
A20: =산출서!A23 -> 기계미장 | C20: =산출서!C23 -> m2 | D20: 190.44 | F20: =TRUNC(E20*D20, 0) -> 0 | H20: =TRUNC(G20*D20, 0) -> 0 | J20: =TRUNC(I20*D20, 0) -> 0 | K20: =TRUNC(E20+G20+I20, 0) -> 0 | L20: =TRUNC(F20+H20+J20, 0) -> 0
A21: =산출서!A24 -> 바닥 고경질 우레탄 | B21: =산출서!B24 -> 노출고경질우레탄 5mm,논슬립형 | C21: =산출서!C24 -> m2 | D21: 190.44 | F21: =TRUNC(E21*D21, 0) -> 0 | H21: =TRUNC(G21*D21, 0) -> 0 | J21: =TRUNC(I21*D21, 0) -> 0 | K21: =TRUNC(E21+G21+I21, 0) -> 0 | L21: =TRUNC(F21+H21+J21, 0) -> 0
A22: =산출서!A25 -> 농구대 라인 | B22: =산출서!B25 -> 기존 라인동일 시공도 | C22: =산출서!C25 -> 식 | D22: 1 | F22: =TRUNC(E22*D22, 0) -> 0 | H22: =TRUNC(G22*D22, 0) -> 0 | J22: =TRUNC(I22*D22, 0) -> 0 | K22: =TRUNC(E22+G22+I22, 0) -> 0 | L22: =TRUNC(F22+H22+J22, 0) -> 0
A23: 농구대 보수 | B23: 농구대 백판 및 링교체, 전체도장포함 | C23: 식 | D23: 1 | F23: =TRUNC(E23*D23, 0) -> 0 | H23: =TRUNC(G23*D23, 0) -> 0 | J23: =TRUNC(I23*D23, 0) -> 0 | K23: =TRUNC(E23+G23+I23, 0) -> 0 | L23: =TRUNC(F23+H23+J23, 0) -> 0
A24: 농구장 단차부위 경사로 | B24: PE제품(4면중 2면),스텐 앙카식 | C24: m | D24: 28 | F24: =TRUNC(E24*D24, 0) -> 0 | H24: =TRUNC(G24*D24, 0) -> 0 | J24: =TRUNC(I24*D24, 0) -> 0 | K24: =TRUNC(E24+G24+I24, 0) -> 0 | L24: =TRUNC(F24+H24+J24, 0) -> 0
A25: 신축줄눈 | B25: 컷팅+코킹 | C25: M | D25: 56 | F25: =TRUNC(E25*D25, 0) -> 0 | H25: =TRUNC(G25*D25, 0) -> 0 | J25: =TRUNC(I25*D25, 0) -> 0 | K25: =TRUNC(E25+G25+I25, 0) -> 0 | L25: =TRUNC(F25+H25+J25, 0) -> 0
A26: 농구장 옆 막구조 휴게실 도장 | B26: 철구조물 재도장(시공도) | C26: 식 | D26: 1 | F26: =TRUNC(E26*D26, 0) -> 0 | H26: =TRUNC(G26*D26, 0) -> 0 | J26: =TRUNC(I26*D26, 0) -> 0 | K26: =TRUNC(E26+G26+I26, 0) -> 0 | L26: =TRUNC(F26+H26+J26, 0) -> 0
A28: 소계 | F28: =SUM(F17:F27) -> 0 | H28: =SUM(H17:H27) -> 0 | J28: =SUM(J17:J27) -> 0 | L28: =SUM(L17:L27) -> 0
A30: =산출서!A28 -> 외부 경사로(2*3.5)
A31: =산출서!A29 -> 거푸집설치 | B31: =산출서!B29 -> 합판거푸집 | C31: =산출서!C29 -> m2 | D31: 2.2 | F31: =TRUNC(E31*D31, 0) -> 0 | H31: =TRUNC(G31*D31, 0) -> 0 | J31: =TRUNC(I31*D31, 0) -> 0 | K31: =TRUNC(E31+G31+I31, 0) -> 0 | L31: =TRUNC(F31+H31+J31, 0) -> 0
A32: =산출서!A30 -> 레미콘 | B32: =산출서!B30 -> 25-24-15 | C32: =산출서!C30 -> m3 | D32: 1.05 | F32: =TRUNC(E32*D32, 0) -> 0 | H32: =TRUNC(G32*D32, 0) -> 0 | J32: =TRUNC(I32*D32, 0) -> 0 | K32: =TRUNC(E32+G32+I32, 0) -> 0 | L32: =TRUNC(F32+H32+J32, 0) -> 0
A33: =산출서!A31 -> 레미콘 타설 | B33: 인력타설 | C33: =산출서!C31 -> m3 | D33: 1.05 | F33: =TRUNC(E33*D33, 0) -> 0 | H33: =TRUNC(G33*D33, 0) -> 0 | J33: =TRUNC(I33*D33, 0) -> 0 | K33: =TRUNC(E33+G33+I33, 0) -> 0 | L33: =TRUNC(F33+H33+J33, 0) -> 0
A34: =산출서!A32 -> 조면처리 | C34: =산출서!C32 -> m2 | D34: 7 | F34: =TRUNC(E34*D34, 0) -> 0 | H34: =TRUNC(G34*D34, 0) -> 0 | J34: =TRUNC(I34*D34, 0) -> 0 | K34: =TRUNC(E34+G34+I34, 0) -> 0 | L34: =TRUNC(F34+H34+J34, 0) -> 0
A35: =산출서!A33 -> 난간대 설치 | B35: =산출서!B33 -> 스텐(시공도) | C35: =산출서!C33 -> m | D35: 7 | F35: =TRUNC(E35*D35, 0) -> 0 | H35: =TRUNC(G35*D35, 0) -> 0 | J35: =TRUNC(I35*D35, 0) -> 0 | K35: =TRUNC(E35+G35+I35, 0) -> 0 | L35: =TRUNC(F35+H35+J35, 0) -> 0
F42: =TRUNC(E42*D42, 0) -> 0 | J42: =TRUNC(I42*D42, 0) -> 0 | K42: =TRUNC(E42+G42+I42, 0) -> 0 | L42: =TRUNC(F42+H42+J42, 0) -> 0
A44: [ 합 계 ] | F44: =SUM(F31:F43) -> 0 | H44: =SUM(H31:H43) -> 0 | J44: =SUM(J31:J43) -> 0 | L44: =SUM(L31:L43) -> 0

Sheet 산출서
A1: 산출서
A2: 게스트하우스 (7.5*4.5)
A3: 품명 | B3: 규격 | C3: 단위 | D3: 산출식 | E3: 물량
A4: 터파기 | B4: 보통토사 | C4: m3 | D4: 7.5*4.5*0.15 | E4: =7.5*4.5*0.15 -> 5.0625
A5: 사토처리 | B5: 보통토사 | C5: m3 | D5: 7.5*4.5*0.15*1.05 | E5: =7.5*4.5*0.15*1.05 -> 5.315625
A6: 비닐깔기 | B6: 0.03 2겹 | C6: m2 | D6: 7.7*4.7 | E6: =7.7*4.7 -> 36.19
A7: 거푸집설치 | B7: 합판거푸집 | C7: m2 | D7: (4.5+4.5+4.5)*0.2 | E7: =(4.5+4.5+4.5)*0.2 -> 2.7
A8: 철근배근 | B8: HD13mm,@300 | C8: 톤 | D8: =260/1000*1 -> 0.26 | E8: =260/1000*1 -> 0.26 | G8: 4.5*(7.5/0.3+1) | H8: =4.5*(7.5/0.3+1) -> 117 | I8: =H8+H9 -> 237 | J8: 0.995 | K8: =I8*J8 -> 235.815 | L8: 1.1 | M8: =K8*L8 -> 259.3965
A9: 레미콘 | B9: 25-24-15 | C9: m3 | D9: 7.5*4.5*0.15 | E9: =7.5*4.5*0.15 -> 5.0625 | G9: 7.5*(4.5/0.3+1) | H9: =7.5*(4.5/0.3+1) -> 120
A10: 레미콘 타설 | B10: 펌프카 | C10: m3 | D10: 7.5*4.5*0.15 | E10: =7.5*4.5*0.15 -> 5.0625
A11: 기계미장 | B11: 하드너 | C11: m2 | D11: 7.5*4.5 | E11: =7.5*4.5 -> 33.75
A14: 농구장(13.8*13.8)
A15: 농구장 바닥 철거 | B15: 경계석 및 콘크리트 | C15: m3 | D15: 14*14*0.15 | E15: =14*14*0.15 -> 29.4
A16: 폐기물 처리 | B16: 운반 및 처리(상차포함) | C16: 톤 | D16: 14*14*0.15*2.4 | E16: =14*14*0.15*2.4 -> 70.56
A17: 경계석설치 | B17: 150*150,콘크리트 포함 | C17: m | D17: (14+14)*2 | E17: =(14+14)*2 -> 56
A18: 바닥방수 | B18: 비노출우레탄(기존방수층 부부보수포함)'3mm | C18: m2 | D18: 14*14 | E18: =14*14 -> 196
A19: 비닐깔기 | B19: 0.03 2겹 | C19: m2 | D19: 14*14 | E19: =14*14 -> 196
A20: 철근배근 | B20: HD13mm@250 | C20: 톤 | D20: 1.7*1 | E20: =1.7*1 -> 1.7 | G20: 13.8*(13.8/0.25+1)*2 | I20: =13.8*(13.8/0.25+1)*2 -> 1551.12 | J20: 0.995 | K20: =I20*J20 -> 1543.3644 | L20: 1.1 | M20: =K20*L20 -> 1697.7008
A21: 레미콘 | B21: 25-24-15 | C21: m3 | D21: 13.8*13.8*0.15*1.03 | E21: =13.8*13.8*0.15*1.03 -> 29.42298
A22: 레미콘 타설 | B22: 펌프카 | C22: m3 | D22: 13.8*13.8*0.15*1.03 | E22: =13.8*13.8*0.15*1.03 -> 29.42298
A23: 기계미장 | C23: m2 | D23: 13.8*13.8 | E23: =13.8*13.8 -> 190.44
A24: 바닥 고경질 우레탄 | B24: 노출고경질우레탄 5mm,논슬립형 | C24: m2 | D24: 13.8*13.8 | E24: =13.8*13.8 -> 190.44
A25: 농구대 라인 | B25: 기존 라인동일 시공도 | C25: 식 | D25: 1*1 | E25: =1*1 -> 1
A26: 옥상 신축줄눈 | B26: 컷팅+코킹 | C26: M | D26: (14+14)*2 | E26: =(14+14)*2 -> 56
A28: 외부 경사로(2*3.5)
A29: 거푸집설치 | B29: 합판거푸집 | C29: m2 | D29: (2+3.5)*2*0.2 | E29: =(2+3.5)*2*0.2 -> 2.2
A30: 레미콘 | B30: 25-24-15 | C30: m3 | D30: (3.5*2)*0.15 | E30: =(3.5*2)*0.15 -> 1.05
A31: 레미콘 타설 | B31: 펌프카 | C31: m3 | D31: (3.5*2)*0.15 | E31: =(3.5*2)*0.15 -> 1.05
A32: 조면처리 | C32: m2 | D32: 3.5*2 | E32: =3.5*2 -> 7
A33: 난간대 설치 | B33: 스텐(시공도) | C33: m | D33: 3.5*2 | E33: =3.5*2 -> 7

Sheet  공사설정 
A1: 이 Sheet는 수정하지 마십시요
A2: 공사구분 | B2: C | C2: 타이틀
A3: 확정내역 | B3: 원내역
A4: 자재단가적용 | B4: 5
A5: 경비단가적용 | B5: 5
A6: 품목코드형식 | B6: XXXX-XXXX-XXXXXXXXX
A7: 내역금액소수점처리 | B7: C | C7: 1
A8: 일위대가내역소수점처리 | B8: C | C8: 2
A9: 단가명 | B9: 조달청가격 | C9: 거래가격 | D9: 유통물가 | E9: 조사가격1 | F9: 조사가격2 | G9: TTTTT
A10: 환율 | B10: 1289 | C10: 0 | D10: 0
A11: 시간당작업량 | B11: R | C11: 4
A12: 1회 사이클시간 | B12: R | C12: 4
A13: 시간당 작업사이클 | B13: R | C13: 3
A14: 일반변수 | B14: R | C14: 5
A15: 시간당 노임산출 계수 | B15: A | C15: 1/8*16/12*25/20 | D15: 1/8*16/12*25/20 | E15: 1/8*16/12*25/20 | F15: 1
A16: 재료비 할증 계수 | B16: 1.11 | C16: 1.12
A17: 노무비 할증 계수 | B17: 1 | C17: 1.5 | D17: 1.16 | E17: 1.6 | F17: 1.6 | G17: 1.6 | H17: 1.94 | I17: 1.94 | J17: 1.94 | K17: 1 | L17: 1 | M17: 1
A18: 경비 할증 계수 | B18: 1.25 | C18: 1.071
A19: 내역,일위대가 품명,규격,단위 따로적용
A20: 내역단가 소수점처리 | B20: C | C20: 1
A21: 코드 | B21: 공종구분명 | C21: 원가비목코드
A22: 1 | B22: 작 업 부 산 물 | C22: A3
A23: 2 | B23: 운 반 비 | C23: C1
A24: 3 | B24: 관 급 자 재 비 | C24: DJ
A25: 4 | B25: 사 급 자 재 비 | C25: D3
A26: 5 | B26: 품질관리비 | C26: CJ
A27: 6 | B27: 폐기물처리비 | C27: D8
A28: 7 | B28: 고자재처리비 | C28: D7
A29: 8
A30: 9 | B30: ...
A31: A | B31: ....
A32: B | B32: .....
A33: C | B33: ....
A34: D | B34: ....
A35: E | B35: ....
A36: F | B36: ....
A37: G | B37: ....
A38: H | B38: ....
A39: I | B39: ....
A40: J | B40: ....
...

Sheet Sheet1
