Workbook
Name _PRN2: [1]내역서!#REF!
Name _PRN2: [1]내역서!#REF!
Name _PRN3: [1]내역서!#REF!
Name _PRN3: [1]내역서!#REF!
Name _PRN4: [1]내역서!#REF!
Name _PRN4: [1]내역서!#REF!
Name _PRN6: [1]내역서!#REF!
Name _PRN6: [1]내역서!#REF!
Name _PRN7: [1]내역서!#REF!
Name _PRN7: [1]내역서!#REF!
Name \a: [2]SCHE!#REF!
Name \a: [2]SCHE!#REF!
Name \b: [2]SCHE!#REF!
Name \b: [2]SCHE!#REF!
Name \c: [2]SCHE!#REF!
Name \c: [2]SCHE!#REF!
Name \d: [2]SCHE!#REF!
Name \d: [2]SCHE!#REF!
Name \s: [2]UPRI!#REF!
Name \s: [2]UPRI!#REF!
Name a: #REF!
Name a: #REF!
Name CODE: [1]내역서!#REF!
Name CODE: [1]내역서!#REF!
Name G: '[3] 견적서'!#REF!
Name G: '[3] 견적서'!#REF!
Name GADFQREADFGQERDA: '[3] 견적서'!#REF!
Name GADFQREADFGQERDA: '[3] 견적서'!#REF!
Name hi: [4]XL4Poppy!$A$15
Name 가나: #REF!
Name 가나: #REF!
Name 갑지: '[3] 견적서'!#REF!
Name 갑지: '[3] 견적서'!#REF!
Name 물가: [5]해창정!$AS$4
Name 인상율: [6]외주정비!$X$2
Name 총원명부: [7]총원!$A$1:$N$602
Name 투자계획: #REF!
Name 투자계획: #REF!

Sheet 갑지
A1: 인테리어 공사 표준견적서
A3: ■공사개요
A4: 공 사 명 : | C4: 꿈의숲해링턴플레이스 회의실및 북카페 인테리어공사 | G4: 업 체 명 | H4: ㈜이레디자인건축
A5: 제 출 일 : | C5: 2026- - | G5: 대 표 자 | H5: 이화림
G6: 사업자등록번호 | H6: 856-81-01304
G7: 주 소 | H7: 경기도 하남시 미사강변대로76, 308호
A8: ■공사개요 | G8: 전화/팩스 | H8: 031-791-0433/031-791-043413
A10: 공사면적(평) : | C10: =세부견적!H7/3.3058 -> 21.779902 | G10: ◆.결제조건 = 계약시30% ,목공사완료시 50%,공사준공시20%
A11: 평 단 가(원) : | C11: 50평이상 평단가 적용
A13: 공 사 금 액 : | C13: =E13 -> 0 | E13: =(E31) -> 0 | F13: VAT별도금액
A15: 아래와 같이 견적서를 제출 합니다.
A16: NO. | C16: 구 분 | E16: 금 액 | F16: 구 성 비 | H16: 비 고
C17: 기본 공사비 | E17: =a갑지!N27 -> 0
C18: 공과잡비 및 경비 | E18: =E17*F18 -> 0
C19: 설계비 및 이윤 | E19: =E17*F19 -> 0
A20: 1 | C20: 내부 인테리어 공사비 소계 | E20: =SUM(E17:E19) -> 0
C22: 산재보험료 | E22: =a갑지!L27*3.9% -> 0 | F22: (노무비)*3.9%
C23: 고용보험료 | E23: =a갑지!L27*1.85% -> 0 | F23: (노무비)*1.85%
A29: 2 | C29: 간접공사비 소계 | E29: =SUM(E22:E28) -> 0
A30: 합 계(1+2)
A31: 총 계 | E31: =ROUNDDOWN(E20+E29,-5) -> 0
A32: 귀중

Sheet a갑지
D1: 구분 | E1: 명칭 및 규격 | F1: 규격 | G1: 단 위 | H1: 수 량 | I1: 재료비 | K1: 노무비 | M1: 합 계 | O1: 비 고
I2: 단 가 | J2: 금 액 | K2: 단 가 | L2: 금 액 | M2: 단 가 | N2: 금 액
D3: ※ | E3: 인테리어공사 집계표
D5: A | E5: =세부견적!E5 -> 기본 공사비
D6: 1 | E6: =세부견적!E6 -> 가설공사 | G6: 식 | H6: 1 | J6: =세부견적!J14 -> 0 | L6: =세부견적!L14 -> 0 | N6: =세부견적!N14 -> 0
D7: 2 | E7: =세부견적!E15 -> 목공사 | G7: 식 | H7: 1 | J7: =세부견적!J28 -> 0 | L7: =세부견적!L28 -> 0 | N7: =세부견적!N28 -> 0
D8: 3 | E8: =세부견적!E29 -> 도장공사 | G8: 식 | H8: 1 | J8: =세부견적!J33 -> 0 | L8: =세부견적!L33 -> 0 | N8: =세부견적!N33 -> 0
D9: 4 | E9: =세부견적!E34 -> 수장공사 | G9: 식 | H9: 1 | J9: =세부견적!J37 -> 0 | L9: =세부견적!L37 -> 0 | N9: =세부견적!N37 -> 0
D10: 5 | E10: =세부견적!E38 -> 전기공사 | G10: 식 | H10: 1 | J10: =세부견적!J49 -> 0 | L10: =세부견적!L49 -> 0 | N10: =세부견적!N49 -> 0
D11: 6 | E11: =세부견적!E50 -> 가구공사 | G11: 식 | H11: 1 | J11: =세부견적!J56 -> 0 | L11: =세부견적!L56 -> 0 | N11: =세부견적!N56 -> 0
D12: 7 | E12: =세부견적!E57 -> 사인공사 | G12: 식 | H12: 1 | J12: =세부견적!J59 -> 0 | L12: =세부견적!L59 -> 0 | N12: =세부견적!N59 -> 0
D13: 8 | E13: =세부견적!E60 -> 설비공사 | G13: 식 | H13: 1 | J13: =세부견적!J65 -> 0 | L13: =세부견적!L65 -> 0 | N13: =세부견적!N65 -> 0
E27: 기본 공사비 합계 | J27: =SUM(J6:J26) -> 0 | L27: =SUM(L6:L26) -> 0 | N27: =SUM(N6:N26) -> 0
D28: B | E28: 별도공사
E29: 내역서에 없는부분

Sheet 세부견적
D1: 북카페 공사 산출내역서
D3: 구분 | E3: 명칭 및 규격 | F3: 규격 | G3: 단 위 | H3: 수 량 | I3: 재료비 | K3: 노무비 | M3: 합 계 | O3: 비 고
I4: 단 가 | J4: 금 액 | K4: 단 가 | L4: 금 액 | M4: 단 가 | N4: 금 액
D5: A | E5: 기본 공사비
D6: 1 | E6: 가설공사
E7: 먹메김 | G7: M2 | H7: 72 | J7: =H7*I7 -> 0 | L7: =H7*K7 -> 0 | M7: =K7+I7 -> 0 | N7: =H7*M7 -> 0
E8: 현장보양 및 정리정돈 | F8: 비닐,골판지,공사중현장정리 | G8: M2 | H8: =H7 -> 72 | J8: =H8*I8 -> 0 | L8: =H8*K8 -> 0 | M8: =K8+I8 -> 0 | N8: =H8*M8 -> 0
E9: 자재대운반 | F9: 자재입고 | G9: M2 | H9: =H7 -> 72 | J9: =H9*I9 -> 0 | L9: =H9*K9 -> 0 | M9: =K9+I9 -> 0 | N9: =H9*M9 -> 0
E10: 자재양중 및 소운반 | F10: 보통인부 | G10: M2 | H10: =H7 -> 72 | J10: =H10*I10 -> 0 | L10: =H10*K10 -> 0 | M10: =K10+I10 -> 0 | N10: =H10*M10 -> 0
E11: 이동식비계 | F11: PT아시바 | G11: 조 | H11: 0 | J11: =H11*I11 -> 0 | L11: =H11*K11 -> 0 | M11: =K11+I11 -> 0 | N11: =H11*M11 -> 0
E12: 폐기물 | F12: 1T | G12: 대 | H12: 1.5 | J12: =H12*I12 -> 0 | L12: =H12*K12 -> 0 | M12: =K12+I12 -> 0 | N12: =H12*M12 -> 0 | O12: 마무리폐기물
E13: 준공청소 | G13: M2 | H13: =H7 -> 72 | L13: =H13*K13 -> 0 | M13: =K13+I13 -> 0 | N13: =H13*M13 -> 0
E14: 소 계 | J14: =SUM(J7:J13) -> 0 | L14: =SUM(L7:L13) -> 0 | N14: =SUM(N7:N13) -> 0
D15: 2 | E15: 목공사
E16: 목재틀 | F16: 30*70 | G16: M2 | H16: 50 | J16: =H16*I16 -> 0 | L16: =H16*K16 -> 0 | M16: =I16+K16 -> 0 | N16: =H16*M16 -> 0 | O16: 신규벽체
E17: 석고보드 취부(벽체) | F17: 석고9T(2겹) | G17: M2 | H17: 100 | J17: =H17*I17 -> 0 | L17: =H17*K17 -> 0 | M17: =I17+K17 -> 0 | N17: =H17*M17 -> 0 | O17: 신규벽체및부분보수
F18: 석고9T(1겹) | G18: M2 | H18: 10 | J18: =H18*I18 -> 0 | L18: =H18*K18 -> 0 | M18: =I18+K18 -> 0 | N18: =H18*M18 -> 0 | O18: 부분
E19: 석고보드 취부(천정보수) | F19: 석고9T(1겹) | G19: 식 | H19: 1 | J19: =H19*I19 -> 0 | L19: =H19*K19 -> 0 | M19: =I19+K19 -> 0 | N19: =H19*M19 -> 0 | O19: 부분
E20: 곡면벽체 | F20: 오징어합판 | G20: 식 | H20: 2 | J20: =H20*I20 -> 0 | L20: =H20*K20 -> 0 | M20: =I20+K20 -> 0 | N20: =H20*M20 -> 0
E21: 플렌테리아박스제작(내부출입구옆) | F21: MDF/합판 | G21: 식 | H21: 1 | J21: =H21*I21 -> 0 | L21: =H21*K21 -> 0 | M21: =I21+K21 -> 0 | N21: =H21*M21 -> 0
E22: 히든 창고 도어 | F22: 프레임포함(900*1200) | G22: 식 | H22: 1 | J22: =H22*I22 -> 0 | L22: =H22*K22 -> 0 | M22: =I22+K22 -> 0 | N22: =H22*M22 -> 0
E23: 잡지서가(조명형) | F23: MDF/합판(2480*2570*300) | G23: EA | H23: 1 | J23: =H23*I23 -> 0 | L23: =H23*K23 -> 0 | M23: =I23+K23 -> 0 | N23: =H23*M23 -> 0
E24: 아치칸막이벽체제작 | G24: 식 | H24: 1 | J24: =H24*I24 -> 0 | L24: =H24*K24 -> 0 | M24: =I24+K24 -> 0 | N24: =H24*M24 -> 0
E25: 파사드제작설치(플렌테리아박스포함) | F25: 10265*2570 | G25: EA | H25: 1 | J25: =H25*I25 -> 0 | L25: =H25*K25 -> 0 | M25: =I25+K25 -> 0 | N25: =H25*M25 -> 0
E26: 걸레받이+몰딩 | G26: M | H26: 20 | J26: =H26*I26 -> 0 | L26: =H26*K26 -> 0 | M26: =I26+K26 -> 0 | N26: =H26*M26 -> 0 | O26: 부분
E27: 잡철물 | F27: 타카핀,본드.,운임 | G27: 식 | H27: 1 | J27: =H27*I27 -> 0 | M27: =I27+K27 -> 0 | N27: =H27*M27 -> 0
E28: 소 계 | J28: =SUM(J16:J27) -> 0 | L28: =SUM(L16:L27) -> 0 | N28: =SUM(N16:N27) -> 0
D29: 3 | E29: 도장공사
E30: 수성도장 | F30: 퍼티 | G30: M2 | H30: 182 | J30: =H30*I30 -> 0 | L30: =H30*K30 -> 0 | M30: =I30+K30 -> 0 | N30: =H30*M30 -> 0 | O30: 벽체,천정
F31: 삼화페인트(롤러시공)2회 | G31: M2 | H31: 182 | J31: =H31*I31 -> 0 | L31: =H31*K31 -> 0 | M31: =I31+K31 -> 0 | N31: =H31*M31 -> 0 | O31: 벽체,천정
E32: 스터코도장(파사드) | G32: 식 | H32: 1 | J32: =H32*I32 -> 0 | L32: =H32*K32 -> 0 | M32: =I32+K32 -> 0 | N32: =H32*M32 -> 0
E33: 소 계 | J33: =SUM(J30:J32) -> 0 | L33: =SUM(L30:L32) -> 0 | N33: =SUM(N30:N32) -> 0
D34: 4 | E34: 수장공사
E35: 인테리어 필름 | F35: 퍼티및샌딩 | G35: M2 | H35: 70 | J35: =I35*H35 -> 0 | L35: =K35*H35 -> 0 | M35: =K35+I35 -> 0 | N35: =M35*H35 -> 0 | O35: 파사드/오픈장/도어
F36: 현대보닥(방염) | G36: M2 | H36: 70 | J36: =I36*H36 -> 0 | L36: =K36*H36 -> 0 | M36: =K36+I36 -> 0 | N36: =M36*H36 -> 0 | O36: 파사드/오픈장/도어
E37: 소 계 | J37: =SUM(J35:J36) -> 0 | L37: =SUM(L35:L36) -> 0 | N37: =SUM(N35:N36) -> 0
D38: 5 | E38: 전기공사
E39: 입배선작업 | F39: 전체입배선작업시 | G39: M2 | H39: 72 | J39: =I39*H39 -> 0 | L39: =K39*H39 -> 0 | M39: =K39+I39 -> 0 | N39: =M39*H39 -> 0
E40: 콘센트취부 | F40: 르그랑 | G40: EA | H40: 5 | J40: =I40*H40 -> 0 | L40: =K40*H40 -> 0 | M40: =K40+I40 -> 0 | N40: =M40*H40 -> 0
E41: 스위치취부 | F41: 르그랑 | G41: EA | H41: 4 | J41: =I41*H41 -> 0 | L41: =K41*H41 -> 0 | M41: =K41+I41 -> 0 | N41: =M41*H41 -> 0
E42: 등기구(바테이블) | F42: 팬던트 | G42: EA | H42: 6 | J42: =I42*H42 -> 0 | L42: =K42*H42 -> 0 | M42: =K42+I42 -> 0 | N42: =M42*H42 -> 0
E43: 등기구(내부천장) | F43: 6인치매입등 | G43: EA | H43: 6 | J43: =I43*H43 -> 0 | L43: =K43*H43 -> 0 | M43: =K43+I43 -> 0 | N43: =M43*H43 -> 0
E44: 등기구(내부천장, 파샤드) | F44: 3인치 매입등 | G44: EA | H44: 26 | J44: =I44*H44 -> 0 | L44: =K44*H44 -> 0 | M44: =K44+I44 -> 0 | N44: =M44*H44 -> 0
E45: 등기구(씽크대, 키오스크) | F45: 2인치 COB " | G45: EA | H45: 2 | J45: =I45*H45 -> 0 | L45: =K45*H45 -> 0 | M45: =K45+I45 -> 0 | N45: =M45*H45 -> 0
E46: 등기구(씽크대하부, 벽체쪽) | F46: T5간접 | G46: M | H46: 20 | J46: =I46*H46 -> 0 | L46: =K46*H46 -> 0 | M46: =K46+I46 -> 0 | N46: =M46*H46 -> 0
E47: 등기구(파샤드) | F47: 3인치매입등회전 | G47: EA | H47: 2 | J47: =I47*H47 -> 0 | L47: =K47*H47 -> 0 | M47: =K47+I47 -> 0 | N47: =M47*H47 -> 0
E48: 등기구취부 | F48: 기존등 이설포함 | G48: M2 | H48: 72 | J48: =I48*H48 -> 0 | L48: =K48*H48 -> 0 | M48: =K48+I48 -> 0 | N48: =M48*H48 -> 0
E49: 소 계 | J49: =SUM(J39:J48) -> 0 | L49: =SUM(L39:L48) -> 0 | N49: =SUM(N39:N48) -> 0
D50: 6 | E50: 가구공사
E51: 싱크대(도어:PET/상판:인조석) | F51: 하부장 | G51: M | H51: 1.8 | J51: =I51*H51 -> 0 | L51: =K51*H51 -> 0 | M51: =K51+I51 -> 0 | N51: =M51*H51 -> 0 | O51: 기본수전포함
E52: (W2200*H2400*D600) | F52: 상부장 | G52: M | H52: 1.8 | J52: =I52*H52 -> 0 | L52: =K52*H52 -> 0 | M52: =K52+I52 -> 0 | N52: =M52*H52 -> 0
F53: 중간알판 | G53: M | H53: 1.8 | J53: =I53*H53 -> 0 | L53: =K53*H53 -> 0 | M53: =K53+I53 -> 0 | N53: =M53*H53 -> 0
E54: 싱크대 현장설치 인건비 | G54: 인 | H54: 1 | J54: =I54*H54 -> 0 | L54: =K54*H54 -> 0 | M54: =K54+I54 -> 0 | N54: =M54*H54 -> 0
E55: 무늬목 바 테이블 | F55: 1600*500*750 | G55: EA | H55: 3 | J55: =I55*H55 -> 0 | L55: =K55*H55 -> 0 | M55: =K55+I55 -> 0 | N55: =M55*H55 -> 0 | O55: 콘센트포함
E56: 소 계 | J56: =SUM(J51:J55) -> 0 | L56: =SUM(L51:L55) -> 0 | N56: =SUM(N51:N55) -> 0
D57: 7 | E57: 사인공사
E58: 파사드 로고 문구 | F58: 발주처 협의 | G58: 식 | H58: 1 | J58: =I58*H58 -> 0 | M58: =K58+I58 -> 0 | N58: =M58*H58 -> 0
E59: 소 계 | J59: =SUM(J58:J58) -> 0 | L59: =SUM(L58:L58) -> 0 | N59: =SUM(N58:N58) -> 0
D60: 8 | E60: 설비공사
E61: 수도설치 | G61: EA | H61: 1 | J61: =I61*H61 -> 0 | L61: =K61*H61 -> 0 | M61: =K61+I61 -> 0 | N61: =M61*H61 -> 0
E62: 배수펌프설치 | G62: EA | H62: 1 | J62: =I62*H62 -> 0 | L62: =K62*H62 -> 0 | M62: =K62+I62 -> 0 | N62: =M62*H62 -> 0
E63: 순간온수기 | F63: 30L | G63: EA | H63: 0 | J63: =I63*H63 -> 0 | L63: =K63*H63 -> 0 | M63: =K63+I63 -> 0 | N63: =M63*H63 -> 0
J64: =I64*H64 -> 0 | L64: =K64*H64 -> 0 | N64: =M64*H64 -> 0
E65: 소 계 | J65: =SUM(J61:J64) -> 0 | L65: =SUM(L61:L64) -> 0 | N65: =SUM(N61:N64) -> 0
P76: =설비공사!P13 -> 0
P83: =기타공사!P15 -> 4167000

Sheet 가설공사
K1: 항목 | L1: 사이즈 | M1: 단위 | N1: 수량 | O1: 단가 | P1: 합 계 | Q1: 비고
K2: 현장보양 | L2: 기공 | M2: 인 | N2: 1 | O2: 180000 | P2: =O2*N2 -> 180000
K3: 운송비 | L3: 목자재 | M3: 대 | N3: 2 | O3: 70000 | P3: =O3*N3 -> 140000
K4: 현장정리 | L4: 기공 | M4: 인 | N4: 1 | O4: 180000 | P4: =O4*N4 -> 180000
K5: 폐기물 | L5: 1톤 | M5: 대 | N5: 1 | O5: 600000 | P5: =O5*N5 -> 600000
L6: 2.5턴 | M6: 대 | N6: 0 | O6: 850000 | P6: =O6*N6 -> 0
K7: 입주청소 | M7: 평당 | N7: 27 | O7: 15000 | P7: =O7*N7 -> 405000
O8: 0 | P8: =O8*N8 -> 0
K12: 합 계 | P12: =SUM(P2:P11) -> 1505000

Sheet 철거공사
K1: 항목 | L1: 사이즈 | M1: 단위 | N1: 수량 | O1: 단가 | P1: 합 계 | Q1: 비고
K2: 인건비 | L2: 기공 | M2: 인 | N2: 0 | O2: 290000 | P2: =O2*N2 -> 0 | Q2: 식대포함
K3: 폐기물 | L3: 1톤 | M3: 대 | N3: 0 | O3: 550000 | P3: =O3*N3 -> 0
L4: 2톤 | M4: 대 | O4: 950000 | P4: =O4*N4 -> 0
K5: 현장보양 | M5: M2 | N5: 0 | O5: 2000 | P5: =O5*N5 -> 0
K6: 바닥미장 | M6: M2 | N6: 0 | O6: 15000 | P6: =O6*N6 -> 0
K7: 벽체철거 | M7: M2 | N7: 0 | O7: 13000 | P7: =O7*N7 -> 0
K8: 천정철거 | M8: M2 | N8: 0 | O8: 11000 | P8: =O8*N8 -> 0
K9: 바닥컷팅 | M9: EA | N9: 0 | O9: 90000 | P9: =O9*N9 -> 0
K10: 방화문타공 | M10: 식 | N10: 0 | O10: 200000 | P10: =O10*N10 -> 0
K12: 합 계 | P12: =SUM(P2:P11) -> 0

Sheet 목공사
K1: 항목 | L1: 사이즈 | M1: 단위 | N1: 수량 | O1: 단가 | P1: 합 계 | Q1: 비고
K2: 인건비 | L2: 기공 | M2: 인 | N2: 8 | O2: 290000 | P2: =O2*N2 -> 2320000 | Q2: 식대포함
K3: 기계품 | M3: 일 | N3: 4 | O3: 140000 | P3: =O3*N3 -> 560000
K4: 목자재 | L4: 투바이 | M4: M2 | N4: 21 | O4: 6000 | P4: =O4*N4 -> 126000 | Q4: 벽체
L5: 각재 | M5: M2 | N5: 20 | O5: 4500 | P5: =O5*N5 -> 90000 | Q5: 파사드/어에컨박스보강
L6: 석고보드1PLY | M6: M2 | N6: 25 | O6: 2200 | P6: =O6*N6 -> 55000 | Q6: 카페,파사드
L7: 석고보드2PLY | M7: M2 | N7: 50 | O7: 4400 | P7: =O7*N7 -> 220000 | Q7: 벽체
L8: MDF9MM | M8: M2 | N8: 20 | O8: 4000 | P8: =O8*N8 -> 80000 | Q8: 문틀/파사드
L9: MDF12MM | M9: M2 | N9: 10 | O9: 7000 | P9: =O9*N9 -> 70000
L10: MDF15MM | M10: M2 | N10: 10 | O10: 10000 | P10: =O10*N10 -> 100000 | Q10: 화단박스 조성
L11: MDF18MM | M11: M2 | N11: 20 | O11: 13000 | P11: =O11*N11 -> 260000 | Q11: 오픈수납장
L12: CNC | M12: 식 | N12: 0 | O12: 500000 | P12: =O12*N12 -> 0 | Q12: 파사드 CNC
L13: 합판3MM | M13: M2 | N13: 40 | O13: 4500 | P13: =O13*N13 -> 180000 | Q13: 곡면벽체
L14: 합판5MM | M14: M2 | N14: 0 | O14: 5500 | P14: =O14*N14 -> 0
L15: 합판9MM | M15: M2 | N15: 10 | O15: 7500 | P15: =O15*N15 -> 75000 | Q15: 합판보강
L16: 합판12MM | M16: M2 | N16: 0 | O16: 10000 | P16: =O16*N16 -> 0
L17: 합판15MM | M17: M2 | N17: 0 | O17: 13000 | P17: =O17*N17 -> 0
L18: 합판18MM | M18: M2 | N18: 0 | O18: 16000 | P18: =O18*N18 -> 0
L19: 매입찬넬 | M19: M | N19: 0 | O19: 20000 | P19: =O19*N19 -> 0
L20: 걸레받이 | M20: M | N20: 20 | O20: 3000 | P20: =O20*N20 -> 60000 | Q20: 마이너스몰딩
L21: 마이톤 | M21: M2 | N21: 12 | O21: 14000 | P21: =O21*N21 -> 168000
L22: 부자재 | M22: 식 | N22: 1 | O22: 200000 | P22: =O22*N22 -> 200000 | Q22: 타카핀,본드
L23: 점검구 | M23: EA | N23: 1 | O23: 45000 | P23: =O23*N23 -> 45000
L24: 목도어 | M24: EA | N24: 1 | O24: 200000 | P24: =O24*N24 -> 200000
K25: 합 계 | P25: =SUM(P2:P24) -> 4809000

Sheet 금속공사 
K1: 항목 | L1: 사이즈 | M1: 단위 | N1: 수량 | O1: 단가 | P1: 합 계 | Q1: 비고
K2: 주출입구 | L2: 1600*2400 | M2: ea | N2: 0 | O2: 1200000 | P2: =O2*N2 -> 0
K3: 주출입구 | L3: 2400*2200 | M3: ea | N3: 0 | O3: 1600000 | P3: =O3*N3 -> 0 | Q3: 주출입구
K4: 갈바후레임 | L4: 75*30 | M4: M | N4: 0 | O4: 32000 | P4: =O4*N4 -> 0
K5: 갈바후레임 | L5: 60*30 | M5: m | N5: 0 | O5: 28000 | P5: =O5*N5 -> 0
K6: SUS후레임 | L6: 60*30 | M6: M | N6: 23 | O6: 40000 | P6: =O6*N6 -> 920000
K7: 갈바후레임 | L7: 15*10 | M7: m | N7: 0 | O7: 15000 | P7: =O7*N7 -> 0
K8: 서스헤어라인 | M8: M2 | N8: 0 | O8: 180000 | P8: =O8*N8 -> 0 | Q8: 서스 원판 24만원
K9: 펜트레이 | M9: ea | N9: 0 | O9: 50000 | P9: =O9*N9 -> 0
K10: 강화유리 | L10: 10mm | M10: 자평 | N10: 250 | O10: 8000 | P10: =O10*N10 -> 2000000
K11: 칼라유리 | L11: 5mm | M11: 자평 | N11: 0 | O11: 6000 | P11: =O11*N11 -> 0
K12: 강화도어 | L12: 900*2100 | M12: ea | N12: 1 | O12: 350000 | P12: =O12*N12 -> 350000 | Q12: 힌지부속포함
K13: 강화도어 | L13: 1000*2400 | M13: ea | N13: 0 | O13: 500000 | P13: =O13*N13 -> 0
K14: 자동문 | L14: (편계형) | M14: ea | N14: 0 | O14: 1800000 | P14: =O14*N14 -> 0
L15: (편계형) | M15: ea | N15: 0 | O15: 2100000 | P15: =O15*N15 -> 0
L16: 양개형 | M16: ea | N16: 0 | O16: 2200000 | P16: =O16*N16 -> 0
K18: 합 계 | P18: =SUM(P2:P17) -> 3270000

Sheet 도장공사
K1: 항목 | L1: 사이즈 | M1: 단위 | N1: 수량 | O1: 단가 | P1: 합 계 | Q1: 비고
K2: 수성 | L2: 롤러시공 | M2: m2 | N2: 170 | O2: 14000 | P2: =O2*N2 -> 2380000 | Q2: 전체벽체
K3: 유성 | L3: 롤러시공 | M3: m2 | N3: 0 | O3: 23000 | P3: =O3*N3 -> 0
K4: 수성뿜칠 | M4: m2 | N4: 0 | O4: 18000 | P4: =O4*N4 -> 0
K5: 테라코트 | M5: m2 | N5: 0 | O5: 28000 | P5: =O5*N5 -> 0
O6: 0 | P6: =O6*N6 -> 0
O7: 0 | P7: =O7*N7 -> 0
O8: 0 | P8: =O8*N8 -> 0
O9: 0 | P9: =O9*N9 -> 0
K13: 합 계 | P13: =SUM(P2:P12) -> 2380000

Sheet 필름공사
K1: 항목 | L1: 사이즈 | M1: 단위 | N1: 수량 | O1: 단가 | P1: 합 계 | Q1: 비고
K2: 인건비 | M2: 인 | N2: 4 | O2: 270000 | P2: =O2*N2 -> 1080000
K3: 자재 | M3: m | N3: 40 | O3: 13000 | P3: =O3*N3 -> 520000
K4: 부자재 | L4: 자재비10% | M4: 식 | N4: 1 | O4: =P3*10% -> 52000 | P4: =O4*N4 -> 52000
O5: 0 | P5: =O5*N5 -> 0
O6: 0 | P6: =O6*N6 -> 0
O7: 0 | P7: =O7*N7 -> 0
O8: 0 | P8: =O8*N8 -> 0
K12: 합 계 | P12: =SUM(P2:P11) -> 1652000

Sheet 바닥공사
J1: 데코타일 | K1: 항목 | L1: 사이즈 | M1: 단위 | N1: 수량 | O1: 단가 | P1: 합 계 | Q1: 비고
K2: 유성데코타일 | M2: m2 | N2: 0 | O2: 13000 | P2: =O2*N2 -> 0
K3: 경비 | M3: 식 | N3: 0 | O3: 20000 | P3: =O3*N3 -> 0
K4: 샌딩 | M4: 식 | N4: 0 | O4: 30000 | P4: =O4*N4 -> 0
K5: 재료분리대 | M5: EA | N5: 0 | O5: 13000 | P5: =O5*N5 -> 0
K6: 실리콘 | M6: EA | N6: 0 | O6: 5000 | P6: =O6*N6 -> 0
K7: 효성카펫타일 | M7: M2 | N7: 0 | O7: 44000 | P7: =O7*N7 -> 0
J8: 타일공사 | K8: 모자이크타일 | M8: M2 | N8: 0 | O8: 32000 | P8: =O8*N8 -> 0
K9: 부자재 | M9: 식 | N9: 0 | O9: 150000 | P9: =O9*N9 -> 0
K10: 시공비 | M10: 인 | N10: 0 | O10: 350000 | P10: =O10*N10 -> 0
K12: 합 계 | P12: =SUM(P2:P11) -> 0

Sheet 냉난방공사
J1: 에어컨 | K1: 항목 | L1: 사이즈 | M1: 단위 | N1: 수량 | O1: 단가 | P1: 합 계 | Q1: 비고
K2: 이전설치 | M2: 대 | N2: 1 | O2: 650000 | P2: =O2*N2 -> 650000
K3: 서브덕트 | M3: EA | N3: 0 | O3: 250000 | P3: =O3*N3 -> 0
K4: 시스템이어컨 | L4: 냉난방 천형 6평형 | M4: EA | N4: 1 | O4: 2200000 | P4: =O4*N4 -> 2200000
P5: =O5*N5 -> 0
P6: =O6*N6 -> 0
K12: 합 계 | P12: =SUM(P2:P11) -> 2850000

Sheet 전기공사
J1: 전기 | K1: 항목 | L1: 사이즈 | M1: 단위 | N1: 수량 | O1: 단가 | P1: 합 계 | Q1: 비고
K2: 인건비 | L2: 전공 | M2: 인 | N2: 7 | O2: 300000 | P2: =O2*N2 -> 2100000
K3: 전선 | L3: 2.5 | M3: 타 | N3: 1 | O3: 130000 | P3: =O3*N3 -> 130000
K4: 전선관 | L4: 난연16 | M4: 타 | N4: 1 | O4: 40000 | P4: =O4*N4 -> 40000
P5: =O5*N5 -> 0
J6: 자재 | K6: 면광조명 | L6: 300*1200 | M6: EA | N6: 0 | O6: 30000 | P6: =O6*N6 -> 0
K7: 6인치매입등 | M7: EA | N7: 0 | O7: 5000 | P7: =O7*N7 -> 0
K8: 3인치매입등 | M8: EA | N8: 30 | O8: 4000 | P8: =O8*N8 -> 120000 | Q8: 업무공간
K9: 벽등 | M9: EA | N9: 0 | O9: 60000 | P9: =O9*N9 -> 0
K10: 레일 | M10: M | N10: 20 | O10: 13000 | P10: =O10*N10 -> 260000 | Q10: 카페
K11: 레일용T7 | M11: M | N11: 20 | O11: 15000 | P11: =O11*N11 -> 300000 | Q11: 카페
K12: 라인펜던트 | M12: M | N12: 0 | O12: 35000 | P12: =O12*N12 -> 0
K13: 레이스웨이 | M13: M | N13: 0 | O13: 12000 | P13: =O13*N13 -> 0
K14: SMPS | M14: EA | N14: 0 | O14: 40000 | P14: =O14*N14 -> 0
K15: T5간접 | M15: M | N15: 12 | O15: 15000 | P15: =O15*N15 -> 180000
K16: led bar | M16: m | N16: 0 | O16: 25000 | P16: =O16*N16 -> 0
K18: 합 계 | P18: =SUM(P2:P17) -> 3130000

Sheet 가구공사
J1: 가구 | K1: 항목 | L1: 사이즈 | M1: 단위 | N1: 수량 | O1: 단가 | P1: 합 계 | Q1: 비고
K2: 싱크대 | L2: 하부장 | M2: 자당 | N2: 0 | O2: 150000 | P2: =O2*N2 -> 0
L3: 상부장 | M3: 자당 | N3: 0 | O3: 130000 | P3: =O3*N3 -> 0
L4: EP판 | M4: M당 | N4: 0 | O4: 60000 | P4: =O4*N4 -> 0
L5: 인조대리석 | M5: M | N5: 0 | O5: 160000 | P5: =O5*N5 -> 0
L6: 진열장하부장 | M6: 자당 | N6: 0 | O6: 120000 | P6: =O6*N6 -> 0
L7: 회의테이블 | M7: 식 | N7: 0 | O7: 1100000 | P7: =O7*N7 -> 0 | Q7: 3000*1000
K8: 키큰장 | L8: 오픈타입 | M8: 자당 | N8: 52 | O8: 150000 | P8: =O8*N8 -> 7800000
L9: 도어타입 | M9: 자당 | N9: 0 | O9: 180000 | P9: =O9*N9 -> 0
K10: 설치비 | L10: 기공 | M10: 인 | N10: 2 | O10: 320000 | P10: =O10*N10 -> 640000
K16: 합 계 | P16: =SUM(P2:P15) -> 8440000

Sheet 사인공사
J1: 사인 | K1: 항목 | L1: 사이즈 | M1: 단위 | N1: 수량 | O1: 단가 | P1: 합 계 | Q1: 비고
K2: 아크릴스카시 | L2: 10T | M2: EA | N2: 0 | O2: 25000 | P2: =O2*N2 -> 0
K3: 안개시트 | M3: M | N3: 0 | O3: 5000 | P3: =O3*N3 -> 0
N4: 0 | O4: 0 | P4: =O4*N4 -> 0
K5: 도장 | M5: EA | N5: 0 | O5: 12000 | P5: =O5*N5 -> 0
K7: 설치비 | L7: 기공 | M7: 인 | N7: 0 | O7: 250000 | P7: =O7*N7 -> 0
K13: 합 계 | P13: =SUM(P2:P12) -> 0

Sheet 소방공사
J1: 소방 | K1: 항목 | L1: 사이즈 | M1: 단위 | N1: 수량 | O1: 단가 | P1: 합 계 | Q1: 비고
K2: 인건비 | L2: 기공 | M2: 인 | N2: 2 | O2: 260000 | P2: =O2*N2 -> 520000
L3: 조공 | M3: 인 | N3: 0 | O3: 240000 | P3: =O3*N3 -> 0
N4: 0 | O4: 0 | P4: =O4*N4 -> 0
K5: 헤드이설 | M5: EA | N5: 8 | O5: 20000 | P5: =O5*N5 -> 160000
K6: 헤드신설 | M6: EA | N6: 4 | O6: 120000 | P6: =O6*N6 -> 480000
K7: 헤드 상향식변경 | M7: EA | N7: 0 | O7: 80000 | P7: =O7*N7 -> 0
K13: 합 계 | P13: =SUM(P2:P12) -> 1160000

Sheet 설비공사
J1: 설비 | K1: 항목 | L1: 사이즈 | M1: 단위 | N1: 수량 | O1: 단가 | P1: 합 계 | Q1: 비고
K2: 수도배관이설 | M2: 식 | N2: 0 | O2: 200000 | P2: =O2*N2 -> 0
K3: 배수이설 | M3: EA | N3: 0 | O3: 240000 | P3: =O3*N3 -> 0
N4: 0 | O4: 0 | P4: =O4*N4 -> 0
K13: 합 계 | P13: =SUM(P2:P12) -> 0

Sheet 기타공사
K1: 항목 | L1: 사이즈 | M1: 단위 | N1: 수량 | O1: 단가 | P1: 합 계 | Q1: 비고
M2: 식 | N2: 0 | O2: 0 | P2: =O2*N2 -> 0
N3: 0 | O3: 0 | P3: =O3*N3 -> 0
K4: 스크린루버 | M4: M | N4: 110 | O4: 27000 | P4: =O4*N4 -> 2970000
K5: 부자재 | M5: 0.1 | N5: 1 | O5: =P4*M5 -> 297000 | P5: =O5 -> 297000
K6: 시공및양중 | M6: 인 | N6: 3 | O6: 300000 | P6: =O6*N6 -> 900000
K7: 알미늄블라인드 | M7: M2 | N7: 0 | O7: 12000 | P7: =O7*N7 -> 0
K8: 방염롤스크린 | M8: m2 | N8: 0 | O8: 15000 | P8: =O8*N8 -> 0
P9: =O9*N9 -> 0
P10: =O10*N10 -> 0
K15: 합 계 | P15: =SUM(P2:P14) -> 4167000

Sheet 경비
K1: 항목 | L1: 사이즈 | M1: 단위 | N1: 수량 | O1: 단가 | P1: 합 계 | Q1: 비고
K2: 식대 | M2: 일 | N2: 1 | O2: 12000 | P2: =O2*N2 -> 12000
K3: 음료 | M3: 일 | N3: 1 | O3: 10000 | P3: =O3*N3 -> 10000
K4: 주유 | M4: 일 | N4: 1 | O4: 20000 | P4: =O4*N4 -> 20000
K5: 잡철물 | M5: 일 | N5: 1 | O5: 10000 | P5: =O5*N5 -> 10000
K7: 합계 | P7: =SUM(P2:P6) -> 52000
K8: 공사일수 | M8: 일 | N8: 20 | O8: =P7 -> 52000 | P8: =O8*N8 -> 1040000
